BEGIN:VCALENDAR
VERSION:2.0
PRODID:-//Landfrauen Hohenlohe - ECPv5.14.2.1//NONSGML v1.0//EN
CALSCALE:GREGORIAN
METHOD:PUBLISH
X-WR-CALNAME:Landfrauen Hohenlohe
X-ORIGINAL-URL:https://landfrauen-hohenlohe.de
X-WR-CALDESC:Veranstaltungen für Landfrauen Hohenlohe
BEGIN:VTIMEZONE
TZID:Europe/Berlin
BEGIN:DAYLIGHT
TZOFFSETFROM:+0100
TZOFFSETTO:+0200
TZNAME:CEST
DTSTART:20240331T010000
END:DAYLIGHT
BEGIN:STANDARD
TZOFFSETFROM:+0200
TZOFFSETTO:+0100
TZNAME:CET
DTSTART:20241027T010000
END:STANDARD
END:VTIMEZONE
BEGIN:VEVENT
DTSTART;TZID=Europe/Berlin:20240622T143000
DTEND;TZID=Europe/Berlin:20240622T170000
DTSTAMP:20260425T133422
CREATED:20231227T150144Z
LAST-MODIFIED:20231227T150144Z
UID:17276-1719066600-1719075600@landfrauen-hohenlohe.de
SUMMARY:Besuch der LandFrauen Criesbach
DESCRIPTION:Die LandFrauen von Criesbach besuchen uns an diesem Samstag.\nGemeinsam mit Harald Specht erkunden wir den Hofgarten.\nAnschliessend gemütliches Beisammen sein.\nAnmeldung bis 15.06.2024 bei Renate Strecker Tel.: 09741/602121.
URL:https://landfrauen-hohenlohe.de/termin/besuch-der-landfrauen-criesbach/
LOCATION:Schlosshof\, Öhringen\, Öhringen\, 74613\, Deutschland
CATEGORIES:Gesellschaft
ORGANIZER;CN="%C3%96hringen":MAILTO:oehringen@landfrauen-hohenlohe.de
END:VEVENT
END:VCALENDAR