BEGIN:VCALENDAR
VERSION:2.0
PRODID:-//Landfrauen Hohenlohe - ECPv5.14.2.1//NONSGML v1.0//EN
CALSCALE:GREGORIAN
METHOD:PUBLISH
X-WR-CALNAME:Landfrauen Hohenlohe
X-ORIGINAL-URL:https://landfrauen-hohenlohe.de
X-WR-CALDESC:Veranstaltungen für Landfrauen Hohenlohe
BEGIN:VTIMEZONE
TZID:Europe/Berlin
BEGIN:DAYLIGHT
TZOFFSETFROM:+0100
TZOFFSETTO:+0200
TZNAME:CEST
DTSTART:20240331T010000
END:DAYLIGHT
BEGIN:STANDARD
TZOFFSETFROM:+0200
TZOFFSETTO:+0100
TZNAME:CET
DTSTART:20241027T010000
END:STANDARD
END:VTIMEZONE
BEGIN:VEVENT
DTSTART;TZID=Europe/Berlin:20240621T193000
DTEND;TZID=Europe/Berlin:20240621T230000
DTSTAMP:20260425T152433
CREATED:20240107T183731Z
LAST-MODIFIED:20240610T143439Z
UID:18399-1718998200-1719010800@landfrauen-hohenlohe.de
SUMMARY:Cocktail-Abend mit den Kreis-LandFrauen Anette und Tanja
DESCRIPTION:Am 21. Juni 2024 findet ab 19:30 Uhr unser Cocktail-Abend in der Sporthalle statt. Eingeladen sind unsere Mitglieds-Frauen und Interessierte\, welche sich über die Arbeit des größten Frauen-Vereins informieren möchten.  \nBekommt einen Einblick in unser Frauennetzwerk\, denn wir LandFrauen setzten uns ein für die Frauen vom Land – sei es in einem umfangreichen Bildungsangebot für Frauen aller Altersgruppen oder indem wir Themen in der Politik Gehör verschaffen. Nachhaltigkeit und die Verbundenheit der Generationen spielen in unserem Verein eine große Rolle.  \nAuch verbindet uns Tradition und Gemeinschaft – wir möchten euch begeistern und gemeinsam miteinander ZUKUNFT gestalten.  \nWir freuen uns auf gesellige und unterhaltsame Abende\, Gäste sind bei uns herzlich willkommen. \nAlle Veranstaltungen finden in Zusammenarbeit mit dem Bildungs- und Sozialwerk des LandFrauenverbandes Württemberg-Baden e.V. statt.
URL:https://landfrauen-hohenlohe.de/termin/cocktail-abend-mit-den-kreis-landfrauen-anette-und-tanja/
LOCATION:Halle Dimbach\, Hallenweg 6\, Dimbach\, Baden Württemberg\, 74626\, Deutschland
ATTACH;FMTTYPE=image/png:https://landfrauen-hohenlohe.de/wp-content/uploads/2024/01/Flyer_A4.png
ORGANIZER;CN="Dimbach":MAILTO:dimbach@landfrauen-hohenlohe.de
END:VEVENT
END:VCALENDAR