BEGIN:VCALENDAR
VERSION:2.0
PRODID:-//Landfrauen Hohenlohe - ECPv5.14.2.1//NONSGML v1.0//EN
CALSCALE:GREGORIAN
METHOD:PUBLISH
X-WR-CALNAME:Landfrauen Hohenlohe
X-ORIGINAL-URL:https://landfrauen-hohenlohe.de
X-WR-CALDESC:Veranstaltungen für Landfrauen Hohenlohe
BEGIN:VTIMEZONE
TZID:Europe/Berlin
BEGIN:DAYLIGHT
TZOFFSETFROM:+0100
TZOFFSETTO:+0200
TZNAME:CEST
DTSTART:20250330T010000
END:DAYLIGHT
BEGIN:STANDARD
TZOFFSETFROM:+0200
TZOFFSETTO:+0100
TZNAME:CET
DTSTART:20251026T010000
END:STANDARD
END:VTIMEZONE
BEGIN:VEVENT
DTSTART;TZID=Europe/Berlin:20250129T190000
DTEND;TZID=Europe/Berlin:20250129T223000
DTSTAMP:20260421T061249
CREATED:20241108T131453Z
LAST-MODIFIED:20241108T132334Z
UID:22358-1738177200-1738189800@landfrauen-hohenlohe.de
SUMMARY:"Die Erfindung der Hausfrau" Vortrag mit Ulrike Kieser-Hess mit den LandFrauen Waldbach
DESCRIPTION:„Das bisschen Haushalt“ diese undankbare und anstrengende Aufgabe kosten vielen Frauen bis Heute den „letzten Nerv“. \nGemeinsam mit den LandFrauen aus Waldbach wollen wir diesem Rollenmodell auf den Grund gehen. Denn dieses Rollenbild drängte so manche Frauen in die finanzielle Abhängingkeit. Trotz der politischen Bemühungen\, dass die Frau ein gleichberechtigtes Mitglied in der Gesellschaft und Berufswelt darstellt\,  ist heute in vielen Bereichen noch nicht möglich. \nAnmeldungen bei Kerstin Mönch unter Telefon 07946 – 3141 oder per WhatsApp. \nWir treffen uns an der Sorthalle Dimbach und bilden Fahrgemeinschaften. \nWir freuen uns auf gesellige und unterhaltsame Abende\, Gäste sind bei uns❤️ herzlich❤️ willkommen. \nAlle Veranstaltungen finden in Zusammenarbeit mit dem Bildungs- und Sozialwerk des LandFrauenverbandes Württemberg-Baden e.V. statt. \n 
URL:https://landfrauen-hohenlohe.de/termin/die-erfindung-der-hausfrau-vortrag-mit-ulrike-kieser-hess-mit-den-landfrauen-waldbach/
LOCATION:Abfahrt Halle Dimbach
ORGANIZER;CN="Dimbach":MAILTO:dimbach@landfrauen-hohenlohe.de
END:VEVENT
END:VCALENDAR