BEGIN:VCALENDAR
VERSION:2.0
PRODID:-//Landfrauen Hohenlohe - ECPv5.14.2.1//NONSGML v1.0//EN
CALSCALE:GREGORIAN
METHOD:PUBLISH
X-WR-CALNAME:Landfrauen Hohenlohe
X-ORIGINAL-URL:https://landfrauen-hohenlohe.de
X-WR-CALDESC:Veranstaltungen für Landfrauen Hohenlohe
BEGIN:VTIMEZONE
TZID:Europe/Berlin
BEGIN:DAYLIGHT
TZOFFSETFROM:+0100
TZOFFSETTO:+0200
TZNAME:CEST
DTSTART:20250330T010000
END:DAYLIGHT
BEGIN:STANDARD
TZOFFSETFROM:+0200
TZOFFSETTO:+0100
TZNAME:CET
DTSTART:20251026T010000
END:STANDARD
END:VTIMEZONE
BEGIN:VEVENT
DTSTART;TZID=Europe/Berlin:20250506T193000
DTEND;TZID=Europe/Berlin:20250506T213000
DTSTAMP:20260424T124356
CREATED:20250127T175305Z
LAST-MODIFIED:20250127T175305Z
UID:23651-1746559800-1746567000@landfrauen-hohenlohe.de
SUMMARY:Erlernen einer Kreativtechnik mit Anja Schmitt\, Pflanzkugel aus Styropor in Rostoptik
DESCRIPTION:
URL:https://landfrauen-hohenlohe.de/termin/erlernen-einer-kreativtechnik-mit-anja-schmitt-pflanzkugel-aus-styropor-in-rostoptik/
LOCATION:Rathaus Feßbach\, Am Rathaus 16\, Feßbach\, 74635
ORGANIZER;CN="Kupferzell":MAILTO:kupferzell@landfrauen-hohenlohe.de
END:VEVENT
END:VCALENDAR