BEGIN:VCALENDAR
VERSION:2.0
PRODID:-//Landfrauen Hohenlohe - ECPv5.14.2.1//NONSGML v1.0//EN
CALSCALE:GREGORIAN
METHOD:PUBLISH
X-WR-CALNAME:Landfrauen Hohenlohe
X-ORIGINAL-URL:https://landfrauen-hohenlohe.de
X-WR-CALDESC:Veranstaltungen für Landfrauen Hohenlohe
BEGIN:VTIMEZONE
TZID:Europe/Berlin
BEGIN:DAYLIGHT
TZOFFSETFROM:+0100
TZOFFSETTO:+0200
TZNAME:CEST
DTSTART:20240331T010000
END:DAYLIGHT
BEGIN:STANDARD
TZOFFSETFROM:+0200
TZOFFSETTO:+0100
TZNAME:CET
DTSTART:20241027T010000
END:STANDARD
END:VTIMEZONE
BEGIN:VEVENT
DTSTART;TZID=Europe/Berlin:20241024T193000
DTEND;TZID=Europe/Berlin:20241024T193000
DTSTAMP:20260423T094936
CREATED:20240110T161306Z
LAST-MODIFIED:20240110T161306Z
UID:18470-1729798200-1729798200@landfrauen-hohenlohe.de
SUMMARY:Fermentieren - Eine alte Haustechnik erlebt Revival
DESCRIPTION:Referentin: Gerda Lober\, Unkostenbeitrag: 8\,00 €
URL:https://landfrauen-hohenlohe.de/termin/fermentieren-eine-alte-haustechnik-erlebt-revival/
LOCATION:Schule Baumerlenbach\, Kirchsteige 1\, Baumerlenbach\, 74613
ORGANIZER;CN="Baumerlenbach%20%2F%20M%C3%B6glingen":MAILTO:baumerlenbach@landfrauen-hohenlohe.de
END:VEVENT
END:VCALENDAR