BEGIN:VCALENDAR
VERSION:2.0
PRODID:-//Landfrauen Hohenlohe - ECPv5.14.2.1//NONSGML v1.0//EN
CALSCALE:GREGORIAN
METHOD:PUBLISH
X-WR-CALNAME:Landfrauen Hohenlohe
X-ORIGINAL-URL:https://landfrauen-hohenlohe.de
X-WR-CALDESC:Veranstaltungen für Landfrauen Hohenlohe
BEGIN:VTIMEZONE
TZID:Europe/Berlin
BEGIN:DAYLIGHT
TZOFFSETFROM:+0100
TZOFFSETTO:+0200
TZNAME:CEST
DTSTART:20260329T010000
END:DAYLIGHT
BEGIN:STANDARD
TZOFFSETFROM:+0200
TZOFFSETTO:+0100
TZNAME:CET
DTSTART:20261025T010000
END:STANDARD
END:VTIMEZONE
BEGIN:VEVENT
DTSTART;TZID=Europe/Berlin:20261110T190000
DTEND;TZID=Europe/Berlin:20261110T190000
DTSTAMP:20260420T204437
CREATED:20260105T150721Z
LAST-MODIFIED:20260105T150721Z
UID:26854-1794337200-1794337200@landfrauen-hohenlohe.de
SUMMARY:Fit von Kopf bis Fuß
DESCRIPTION:LandFrauen Amrichshausen – Vortrag Gesundheit mit praktischem Teil: \nFit von Kopf bis Fuß \nReferentin: Aylin Bergemann\, Bildungsreferentin Landesverband Stuttgart \n\nMit Bewegungen\, Gehirnjogging und Spaß werden neue Verbindungen im Gehirn geschaffen und so die Gehirnleistung gesteigert. \nTheoretisch und praktisch wird gezeigt\, wie das Gehirn arbeitet und dadurch funktions-\, lern- und lösungsfähig ist. \n\nUm Anmeldung wird gebeten. \nGästen sind herzlich willkommen!
URL:https://landfrauen-hohenlohe.de/termin/fit-von-kopf-bis-fuss-2/
LOCATION:Grundschule Amrichshausen\, Bewegungsraum\, Grabenteichweg\, Amrichshausen\, Baden-Württemberg\, 74653
ORGANIZER;CN="Amrichshausen":MAILTO:amrichshausen@landfrauen-hohenlohe.de
END:VEVENT
END:VCALENDAR