BEGIN:VCALENDAR
VERSION:2.0
PRODID:-//Landfrauen Hohenlohe - ECPv5.14.2.1//NONSGML v1.0//EN
CALSCALE:GREGORIAN
METHOD:PUBLISH
X-WR-CALNAME:Landfrauen Hohenlohe
X-ORIGINAL-URL:https://landfrauen-hohenlohe.de
X-WR-CALDESC:Veranstaltungen für Landfrauen Hohenlohe
BEGIN:VTIMEZONE
TZID:Europe/Berlin
BEGIN:DAYLIGHT
TZOFFSETFROM:+0100
TZOFFSETTO:+0200
TZNAME:CEST
DTSTART:20240331T010000
END:DAYLIGHT
BEGIN:STANDARD
TZOFFSETFROM:+0200
TZOFFSETTO:+0100
TZNAME:CET
DTSTART:20241027T010000
END:STANDARD
END:VTIMEZONE
BEGIN:VEVENT
DTSTART;TZID=Europe/Berlin:20240515T193000
DTEND;TZID=Europe/Berlin:20240515T220000
DTSTAMP:20260420T133858
CREATED:20231122T191011Z
LAST-MODIFIED:20231122T191011Z
UID:16594-1715801400-1715810400@landfrauen-hohenlohe.de
SUMMARY:"Gemixt\, geschüttelt oder gerührt- Cocktails selber machen"
DESCRIPTION:Agnes und Tamara Stier\, Vogelsberg \nAnmeldung bis 05.05.2024 \nKosten Mitglieder: 5€ \nKosten Nichtmitglieder: 10€
URL:https://landfrauen-hohenlohe.de/termin/gemixt-geschuettelt-oder-geruehrt-cocktails-selber-machen/
LOCATION:Dorfgemeinschaftshaus Vogelsberg\, Tierberger Str. 20\, Vogelsberg\, 74653
ORGANIZER;CN="Kocherstetten":MAILTO:kocherstetten@landfrauen-hohenlohe.de
END:VEVENT
END:VCALENDAR