BEGIN:VCALENDAR
VERSION:2.0
PRODID:-//Landfrauen Hohenlohe - ECPv5.14.2.1//NONSGML v1.0//EN
CALSCALE:GREGORIAN
METHOD:PUBLISH
X-WR-CALNAME:Landfrauen Hohenlohe
X-ORIGINAL-URL:https://landfrauen-hohenlohe.de
X-WR-CALDESC:Veranstaltungen für Landfrauen Hohenlohe
BEGIN:VTIMEZONE
TZID:Europe/Berlin
BEGIN:DAYLIGHT
TZOFFSETFROM:+0100
TZOFFSETTO:+0200
TZNAME:CEST
DTSTART:20260329T010000
END:DAYLIGHT
BEGIN:STANDARD
TZOFFSETFROM:+0200
TZOFFSETTO:+0100
TZNAME:CET
DTSTART:20261025T010000
END:STANDARD
END:VTIMEZONE
BEGIN:VEVENT
DTSTART;VALUE=DATE:20260814
DTEND;VALUE=DATE:20260815
DTSTAMP:20260420T205355
CREATED:20260107T184642Z
LAST-MODIFIED:20260107T184642Z
UID:26937-1786665600-1786751999@landfrauen-hohenlohe.de
SUMMARY:Grillfest
DESCRIPTION:Essen\, Lachen\, Genießen!
URL:https://landfrauen-hohenlohe.de/termin/grillfest-3/
LOCATION:Schuppen beim ehem. Gassensee\, Schuppen am ehem.Gassensee\, Neuhütten\, 71543\, Deutschland
ORGANIZER;CN="Neuh%C3%BCtten":MAILTO:neuhuetten@landfrauen-hohenlohe.de
END:VEVENT
END:VCALENDAR