BEGIN:VCALENDAR
VERSION:2.0
PRODID:-//Landfrauen Hohenlohe - ECPv5.14.2.1//NONSGML v1.0//EN
CALSCALE:GREGORIAN
METHOD:PUBLISH
X-WR-CALNAME:Landfrauen Hohenlohe
X-ORIGINAL-URL:https://landfrauen-hohenlohe.de
X-WR-CALDESC:Veranstaltungen für Landfrauen Hohenlohe
BEGIN:VTIMEZONE
TZID:Europe/Berlin
BEGIN:DAYLIGHT
TZOFFSETFROM:+0100
TZOFFSETTO:+0200
TZNAME:CEST
DTSTART:20240331T010000
END:DAYLIGHT
BEGIN:STANDARD
TZOFFSETFROM:+0200
TZOFFSETTO:+0100
TZNAME:CET
DTSTART:20241027T010000
END:STANDARD
END:VTIMEZONE
BEGIN:VEVENT
DTSTART;TZID=Europe/Berlin:20241121T143000
DTEND;TZID=Europe/Berlin:20241121T163000
DTSTAMP:20260424T133720
CREATED:20240417T174808Z
LAST-MODIFIED:20240417T174808Z
UID:20362-1732199400-1732206600@landfrauen-hohenlohe.de
SUMMARY:Holunder - eine alte Heilpflanze
DESCRIPTION:Mit Kostproben\, Unkostenbeitrag\,  Regina Queißner \neine gemeinsame Veranstaltung mit den LandFrauen Laibach
URL:https://landfrauen-hohenlohe.de/termin/holunder-eine-alte-heilpflanze/
LOCATION:evangelisches Gemeindehaus Dörzbach
ORGANIZER;CN="D%C3%B6rzbach":MAILTO:doerzbach@landfrauen-hohenlohe.de
END:VEVENT
END:VCALENDAR