BEGIN:VCALENDAR
VERSION:2.0
PRODID:-//Landfrauen Hohenlohe - ECPv5.14.2.1//NONSGML v1.0//EN
CALSCALE:GREGORIAN
METHOD:PUBLISH
X-WR-CALNAME:Landfrauen Hohenlohe
X-ORIGINAL-URL:https://landfrauen-hohenlohe.de
X-WR-CALDESC:Veranstaltungen für Landfrauen Hohenlohe
BEGIN:VTIMEZONE
TZID:Europe/Berlin
BEGIN:DAYLIGHT
TZOFFSETFROM:+0100
TZOFFSETTO:+0200
TZNAME:CEST
DTSTART:20260329T010000
END:DAYLIGHT
BEGIN:STANDARD
TZOFFSETFROM:+0200
TZOFFSETTO:+0100
TZNAME:CET
DTSTART:20261025T010000
END:STANDARD
END:VTIMEZONE
BEGIN:VEVENT
DTSTART;TZID=Europe/Berlin:20260909T190000
DTEND;TZID=Europe/Berlin:20260909T220000
DTSTAMP:20260420T224809
CREATED:20260107T184810Z
LAST-MODIFIED:20260107T184810Z
UID:26939-1788980400-1788991200@landfrauen-hohenlohe.de
SUMMARY:Indische Frauensprechstunde
DESCRIPTION:Referentin: P.F. Schürrle-Sharkar
URL:https://landfrauen-hohenlohe.de/termin/indische-frauensprechstunde/
LOCATION:Gasthaus Sonne-Post Neuhütten
ORGANIZER;CN="Neuh%C3%BCtten":MAILTO:neuhuetten@landfrauen-hohenlohe.de
END:VEVENT
END:VCALENDAR