BEGIN:VCALENDAR
VERSION:2.0
PRODID:-//Landfrauen Hohenlohe - ECPv5.14.2.1//NONSGML v1.0//EN
CALSCALE:GREGORIAN
METHOD:PUBLISH
X-WR-CALNAME:Landfrauen Hohenlohe
X-ORIGINAL-URL:https://landfrauen-hohenlohe.de
X-WR-CALDESC:Veranstaltungen für Landfrauen Hohenlohe
BEGIN:VTIMEZONE
TZID:Europe/Berlin
BEGIN:DAYLIGHT
TZOFFSETFROM:+0100
TZOFFSETTO:+0200
TZNAME:CEST
DTSTART:20260329T010000
END:DAYLIGHT
BEGIN:STANDARD
TZOFFSETFROM:+0200
TZOFFSETTO:+0100
TZNAME:CET
DTSTART:20261025T010000
END:STANDARD
END:VTIMEZONE
BEGIN:VEVENT
DTSTART;TZID=Europe/Berlin:20260107T174500
DTEND;TZID=Europe/Berlin:20260107T184500
DTSTAMP:20260420T171319
CREATED:20260117T081722Z
LAST-MODIFIED:20260117T081722Z
UID:27286-1767807900-1767811500@landfrauen-hohenlohe.de
SUMMARY:Jumping
DESCRIPTION:
URL:https://landfrauen-hohenlohe.de/termin/jumping/
LOCATION:turnhalle über der Schwimmbad\, Kupferzell
ORGANIZER;CN="Kupferzell":MAILTO:kupferzell@landfrauen-hohenlohe.de
END:VEVENT
END:VCALENDAR