BEGIN:VCALENDAR
VERSION:2.0
PRODID:-//Landfrauen Hohenlohe - ECPv5.14.2.1//NONSGML v1.0//EN
CALSCALE:GREGORIAN
METHOD:PUBLISH
X-WR-CALNAME:Landfrauen Hohenlohe
X-ORIGINAL-URL:https://landfrauen-hohenlohe.de
X-WR-CALDESC:Veranstaltungen für Landfrauen Hohenlohe
BEGIN:VTIMEZONE
TZID:Europe/Berlin
BEGIN:DAYLIGHT
TZOFFSETFROM:+0100
TZOFFSETTO:+0200
TZNAME:CEST
DTSTART:20240331T010000
END:DAYLIGHT
BEGIN:STANDARD
TZOFFSETFROM:+0200
TZOFFSETTO:+0100
TZNAME:CET
DTSTART:20241027T010000
END:STANDARD
END:VTIMEZONE
BEGIN:VEVENT
DTSTART;TZID=Europe/Berlin:20241129T190000
DTEND;TZID=Europe/Berlin:20241129T213000
DTSTAMP:20260422T220526
CREATED:20240730T074651Z
LAST-MODIFIED:20240730T074651Z
UID:21479-1732906800-1732915800@landfrauen-hohenlohe.de
SUMMARY:KREATIVTECHNIK: Sterne basteln mit Holzperlen
DESCRIPTION:
URL:https://landfrauen-hohenlohe.de/termin/kreativtechnik-sterne-basteln-mit-holzperlen/
LOCATION:Feuerwehrmagazin Langenbeutingen
ORGANIZER;CN="Langenbeutingen":MAILTO:langenbeutingen@landfrauen-hohenlohe.de
END:VEVENT
END:VCALENDAR