BEGIN:VCALENDAR
VERSION:2.0
PRODID:-//Landfrauen Hohenlohe - ECPv5.14.2.1//NONSGML v1.0//EN
CALSCALE:GREGORIAN
METHOD:PUBLISH
X-WR-CALNAME:Landfrauen Hohenlohe
X-ORIGINAL-URL:https://landfrauen-hohenlohe.de
X-WR-CALDESC:Veranstaltungen für Landfrauen Hohenlohe
BEGIN:VTIMEZONE
TZID:Europe/Berlin
BEGIN:DAYLIGHT
TZOFFSETFROM:+0100
TZOFFSETTO:+0200
TZNAME:CEST
DTSTART:20240331T010000
END:DAYLIGHT
BEGIN:STANDARD
TZOFFSETFROM:+0200
TZOFFSETTO:+0100
TZNAME:CET
DTSTART:20241027T010000
END:STANDARD
END:VTIMEZONE
BEGIN:VEVENT
DTSTART;TZID=Europe/Berlin:20241021T190000
DTEND;TZID=Europe/Berlin:20241021T223000
DTSTAMP:20260422T075810
CREATED:20231227T151516Z
LAST-MODIFIED:20231227T151516Z
UID:17281-1729537200-1729549800@landfrauen-hohenlohe.de
SUMMARY:Lebensgeschichte des Richard von Weizsäcker
DESCRIPTION:Manferd Guldan referiert über die:\n„Lebensgeschichte Richard von Weizsäcker – auf den Spuren seiner Holenloher Wurzeln“.\nAnmeldung bis 14.10.2024 bei Carola Kübler Tel.: 07941/35982
URL:https://landfrauen-hohenlohe.de/termin/lebensgeschichte-des-richard-von-weizsaecker/
LOCATION:Stiftskirche Öhringen\, Seitenkapelle\, Öhringen\, 74613
CATEGORIES:Gesellschaft
ORGANIZER;CN="%C3%96hringen":MAILTO:oehringen@landfrauen-hohenlohe.de
END:VEVENT
END:VCALENDAR