BEGIN:VCALENDAR
VERSION:2.0
PRODID:-//Landfrauen Hohenlohe - ECPv5.14.2.1//NONSGML v1.0//EN
CALSCALE:GREGORIAN
METHOD:PUBLISH
X-WR-CALNAME:Landfrauen Hohenlohe
X-ORIGINAL-URL:https://landfrauen-hohenlohe.de
X-WR-CALDESC:Veranstaltungen für Landfrauen Hohenlohe
BEGIN:VTIMEZONE
TZID:Europe/Berlin
BEGIN:DAYLIGHT
TZOFFSETFROM:+0100
TZOFFSETTO:+0200
TZNAME:CEST
DTSTART:20260329T010000
END:DAYLIGHT
BEGIN:STANDARD
TZOFFSETFROM:+0200
TZOFFSETTO:+0100
TZNAME:CET
DTSTART:20261025T010000
END:STANDARD
END:VTIMEZONE
BEGIN:VEVENT
DTSTART;VALUE=DATE:20260620
DTEND;VALUE=DATE:20260621
DTSTAMP:20260420T204407
CREATED:20260331T185618Z
LAST-MODIFIED:20260331T185618Z
UID:28319-1781913600-1781999999@landfrauen-hohenlohe.de
SUMMARY:Lehr- und Bildungsfahrt Landesgartenschau Ellwangen
DESCRIPTION:Wir fahren mit dem Busunternehmen Herbold.
URL:https://landfrauen-hohenlohe.de/termin/lehr-und-bildungsfahrt-landesgartenschau-ellwangen/
LOCATION:Landesgartenschau Ellwangen
ORGANIZER;CN="Baumerlenbach%20%2F%20M%C3%B6glingen":MAILTO:baumerlenbach@landfrauen-hohenlohe.de
END:VEVENT
END:VCALENDAR