BEGIN:VCALENDAR
VERSION:2.0
PRODID:-//Landfrauen Hohenlohe - ECPv5.14.2.1//NONSGML v1.0//EN
CALSCALE:GREGORIAN
METHOD:PUBLISH
X-WR-CALNAME:Landfrauen Hohenlohe
X-ORIGINAL-URL:https://landfrauen-hohenlohe.de
X-WR-CALDESC:Veranstaltungen für Landfrauen Hohenlohe
BEGIN:VTIMEZONE
TZID:Europe/Berlin
BEGIN:DAYLIGHT
TZOFFSETFROM:+0100
TZOFFSETTO:+0200
TZNAME:CEST
DTSTART:20250330T010000
END:DAYLIGHT
BEGIN:STANDARD
TZOFFSETFROM:+0200
TZOFFSETTO:+0100
TZNAME:CET
DTSTART:20251026T010000
END:STANDARD
END:VTIMEZONE
BEGIN:VEVENT
DTSTART;TZID=Europe/Berlin:20250318T190000
DTEND;TZID=Europe/Berlin:20250318T230000
DTSTAMP:20260422T224213
CREATED:20250110T082038Z
LAST-MODIFIED:20250110T082038Z
UID:23151-1742324400-1742338800@landfrauen-hohenlohe.de
SUMMARY:Mitgliederversammlung
DESCRIPTION:Bei unserer diesjährigen Mitgliederversammlung finden Vorstandschaftswahlen statt.Es sind einige Posten neu zu vergeben. \nWenn auch DU dich in unserem Verein mitwirken möchtest\, melde dich bitte. Wir sind ein intakter Verein und haben eine guten Vereinsführung\, zweckdienliche Strukturen und aktive Mitglieds-Frauen. \nAn diesem Abend stellen unseren Kassenbericht vor und zeigen euch eine LandFrauen-Präsentation. \nAusserdem ist Larissa Salcher mit einer Überraschung bei uns zu Gast. \nWir freuen uns auf gesellige und unterhaltsame Abende\, Gäste sind bei uns❤️ herzlich❤️ willkommen. \nAlle Veranstaltungen finden in Zusammenarbeit mit dem Bildungs- und Sozialwerk des LandFrauenverbandes Württemberg-Baden e.V. statt. \n 
URL:https://landfrauen-hohenlohe.de/termin/mitgliederversammlung-8/
LOCATION:Schulsaal Dimbach\, Dimbach
ATTACH;FMTTYPE=image/jpeg:https://landfrauen-hohenlohe.de/wp-content/uploads/2025/01/LandFrauen_Wortwolke.jpeg
ORGANIZER;CN="Dimbach":MAILTO:dimbach@landfrauen-hohenlohe.de
END:VEVENT
END:VCALENDAR