BEGIN:VCALENDAR
VERSION:2.0
PRODID:-//Landfrauen Hohenlohe - ECPv5.14.2.1//NONSGML v1.0//EN
CALSCALE:GREGORIAN
METHOD:PUBLISH
X-WR-CALNAME:Landfrauen Hohenlohe
X-ORIGINAL-URL:https://landfrauen-hohenlohe.de
X-WR-CALDESC:Veranstaltungen für Landfrauen Hohenlohe
BEGIN:VTIMEZONE
TZID:Europe/Berlin
BEGIN:DAYLIGHT
TZOFFSETFROM:+0100
TZOFFSETTO:+0200
TZNAME:CEST
DTSTART:20250330T010000
END:DAYLIGHT
BEGIN:STANDARD
TZOFFSETFROM:+0200
TZOFFSETTO:+0100
TZNAME:CET
DTSTART:20251026T010000
END:STANDARD
END:VTIMEZONE
BEGIN:VEVENT
DTSTART;TZID=Europe/Berlin:20250325T190000
DTEND;TZID=Europe/Berlin:20250325T190000
DTSTAMP:20260422T122721
CREATED:20241231T145021Z
LAST-MODIFIED:20241231T152326Z
UID:22977-1742929200-1742929200@landfrauen-hohenlohe.de
SUMMARY:Putzseifen selbst gemacht
DESCRIPTION:Ortsverein Amrichshausen – Workshop Hauswirtschaft: \nPutzseifen selbst gemacht \nJede*r Teilnehmer*in darf ein festes Spülmittel\, Scheuerstein und Toilettenreiniger selbst herstellen. \nAlles mit wenigen Zutaten und natürlich biologisch abbaubar. \nReferentin: Nadine Schäfer \nKosten: 20 Euro  \nWir bitten um Anmeldung bis 18.03.
URL:https://landfrauen-hohenlohe.de/termin/putzseifen-selbst-gemacht/
LOCATION:Pfarrheim Amrichshausen\, Pfarrweg 5\, Amrichshausen\, 74653
ORGANIZER;CN="Amrichshausen":MAILTO:amrichshausen@landfrauen-hohenlohe.de
END:VEVENT
END:VCALENDAR