BEGIN:VCALENDAR
VERSION:2.0
PRODID:-//Landfrauen Hohenlohe - ECPv5.14.2.1//NONSGML v1.0//EN
CALSCALE:GREGORIAN
METHOD:PUBLISH
X-WR-CALNAME:Landfrauen Hohenlohe
X-ORIGINAL-URL:https://landfrauen-hohenlohe.de
X-WR-CALDESC:Veranstaltungen für Landfrauen Hohenlohe
BEGIN:VTIMEZONE
TZID:Europe/Berlin
BEGIN:DAYLIGHT
TZOFFSETFROM:+0100
TZOFFSETTO:+0200
TZNAME:CEST
DTSTART:20240331T010000
END:DAYLIGHT
BEGIN:STANDARD
TZOFFSETFROM:+0200
TZOFFSETTO:+0100
TZNAME:CET
DTSTART:20241027T010000
END:STANDARD
END:VTIMEZONE
BEGIN:VEVENT
DTSTART;TZID=Europe/Berlin:20241019T140000
DTEND;TZID=Europe/Berlin:20241019T140000
DTSTAMP:20260421T102023
CREATED:20240704T100335Z
LAST-MODIFIED:20240807T111808Z
UID:21194-1729346400-1729346400@landfrauen-hohenlohe.de
SUMMARY:Traktorfahrt durch die Weinberge mit Weinkönigin Larissa Salcher
DESCRIPTION:Mit der Württembergischen Weinkönigin Larissa Salcher aus Scheppach unternehmen wir eine Fahrt mit Traktor und Anhänger durch die umliegenden Weinberge. Königin Larissa wird für uns eine Weinprobe gestalten. \nNähere Infos folgen! \nAlle Veranstaltungen finden in Zusammenarbeit mit dem Bildungs- und Sozialwerk des LandFrauenverbandes Württemberg-Baden e.V. statt.
URL:https://landfrauen-hohenlohe.de/termin/traktorfahrt-durch-die-weinberge-mit-weinkoenigin-larissa-salcher/
ATTACH;FMTTYPE=image/png:https://landfrauen-hohenlohe.de/wp-content/uploads/2024/07/Herlbsliche-Wein-Traktor-Fahrt-5.png
ORGANIZER;CN="LandFrauen%20Scheppach":MAILTO:scheppach@landfrauen-hohenlohe.de
END:VEVENT
END:VCALENDAR