BEGIN:VCALENDAR
VERSION:2.0
PRODID:-//Landfrauen Hohenlohe - ECPv5.14.2.1//NONSGML v1.0//EN
CALSCALE:GREGORIAN
METHOD:PUBLISH
X-WR-CALNAME:Landfrauen Hohenlohe
X-ORIGINAL-URL:https://landfrauen-hohenlohe.de
X-WR-CALDESC:Veranstaltungen für Landfrauen Hohenlohe
BEGIN:VTIMEZONE
TZID:Europe/Berlin
BEGIN:DAYLIGHT
TZOFFSETFROM:+0100
TZOFFSETTO:+0200
TZNAME:CEST
DTSTART:20240331T010000
END:DAYLIGHT
BEGIN:STANDARD
TZOFFSETFROM:+0200
TZOFFSETTO:+0100
TZNAME:CET
DTSTART:20241027T010000
END:STANDARD
END:VTIMEZONE
BEGIN:VEVENT
DTSTART;TZID=Europe/Berlin:20241207T140000
DTEND;TZID=Europe/Berlin:20241207T180000
DTSTAMP:20260424T012244
CREATED:20240923T170420Z
LAST-MODIFIED:20241124T150657Z
UID:22116-1733580000-1733594400@landfrauen-hohenlohe.de
SUMMARY:Weihnachtsfeier
DESCRIPTION:Einladung zur Weihnachtsfeier \nDie Weihnachtsfeier findet im Sportheim\, Otto Schäffler Strasse gegenüber Tennisplatz statt bei weihnachtlicher Bewirtung. \nBeiträge zur Weihnachtsfeier Gestaltung sind gerne erwünscht.
URL:https://landfrauen-hohenlohe.de/termin/weihnachtsfeier-6/
LOCATION:Unterheimbach Schulstrasse gegenüber Tennisplätzen
END:VEVENT
END:VCALENDAR