BEGIN:VCALENDAR
VERSION:2.0
PRODID:-//Landfrauen Hohenlohe - ECPv5.14.2.1//NONSGML v1.0//EN
CALSCALE:GREGORIAN
METHOD:PUBLISH
X-WR-CALNAME:Landfrauen Hohenlohe
X-ORIGINAL-URL:https://landfrauen-hohenlohe.de
X-WR-CALDESC:Veranstaltungen für Landfrauen Hohenlohe
BEGIN:VTIMEZONE
TZID:Europe/Berlin
BEGIN:DAYLIGHT
TZOFFSETFROM:+0100
TZOFFSETTO:+0200
TZNAME:CEST
DTSTART:20240331T010000
END:DAYLIGHT
BEGIN:STANDARD
TZOFFSETFROM:+0200
TZOFFSETTO:+0100
TZNAME:CET
DTSTART:20241027T010000
END:STANDARD
END:VTIMEZONE
BEGIN:VEVENT
DTSTART;TZID=Europe/Berlin:20240629T183000
DTEND;TZID=Europe/Berlin:20240629T213000
DTSTAMP:20260422T172748
CREATED:20240105T213604Z
LAST-MODIFIED:20240105T213604Z
UID:18322-1719685800-1719696600@landfrauen-hohenlohe.de
SUMMARY:Weinfesteinteilung
DESCRIPTION:
URL:https://landfrauen-hohenlohe.de/termin/weinfesteinteilung/
LOCATION:Criesbacher Kelter\, An der Kelter 1\, Criesbach\, 74653\, Deutschland
ATTACH;FMTTYPE=image/jpeg:https://landfrauen-hohenlohe.de/wp-content/uploads/2023/11/06_2024Weinfesteinteilung-e1704490378523.jpg
ORGANIZER;CN="Criesbach":MAILTO:criesbach@landfrauen-hohenlohe.de
END:VEVENT
END:VCALENDAR