BEGIN:VCALENDAR
VERSION:2.0
PRODID:-//Landfrauen Hohenlohe - ECPv5.14.2.1//NONSGML v1.0//EN
CALSCALE:GREGORIAN
METHOD:PUBLISH
X-WR-CALNAME:Landfrauen Hohenlohe
X-ORIGINAL-URL:https://landfrauen-hohenlohe.de
X-WR-CALDESC:Veranstaltungen für Landfrauen Hohenlohe
BEGIN:VTIMEZONE
TZID:Europe/Berlin
BEGIN:DAYLIGHT
TZOFFSETFROM:+0100
TZOFFSETTO:+0200
TZNAME:CEST
DTSTART:20250330T010000
END:DAYLIGHT
BEGIN:STANDARD
TZOFFSETFROM:+0200
TZOFFSETTO:+0100
TZNAME:CET
DTSTART:20251026T010000
END:STANDARD
END:VTIMEZONE
BEGIN:VEVENT
DTSTART;TZID=Europe/Berlin:20250115T110000
DTEND;TZID=Europe/Berlin:20250115T120000
DTSTAMP:20260420T075017
CREATED:20250126T180412Z
LAST-MODIFIED:20250126T180412Z
UID:23748-1736938800-1736942400@landfrauen-hohenlohe.de
SUMMARY:Präventive Stuhlgymnastik
DESCRIPTION:
URL:https://landfrauen-hohenlohe.de/termin/praeventive-stuhlgymnastik/2025-01-15/
LOCATION:Bachstraße 6\, Füssbach\, Bachstraße 6\, Füßbach\, 74635
ORGANIZER;CN="Kupferzell":MAILTO:kupferzell@landfrauen-hohenlohe.de
END:VEVENT
BEGIN:VEVENT
DTSTART;TZID=Europe/Berlin:20250115T180000
DTEND;TZID=Europe/Berlin:20250115T190000
DTSTAMP:20260420T075017
CREATED:20250126T183821Z
LAST-MODIFIED:20250126T183821Z
UID:23803-1736964000-1736967600@landfrauen-hohenlohe.de
SUMMARY:Cardio Jumping
DESCRIPTION:
URL:https://landfrauen-hohenlohe.de/termin/cardio-jumping-3/2025-01-15/
LOCATION:Sporthalle über dem Schwimmbad\, Gartenstr. 30\, Kupferzell\, 74635
ORGANIZER;CN="Kupferzell":MAILTO:kupferzell@landfrauen-hohenlohe.de
END:VEVENT
BEGIN:VEVENT
DTSTART;TZID=Europe/Berlin:20250115T190000
DTEND;TZID=Europe/Berlin:20250115T220000
DTSTAMP:20260420T075017
CREATED:20250102T102107Z
LAST-MODIFIED:20250102T102107Z
UID:23033-1736967600-1736978400@landfrauen-hohenlohe.de
SUMMARY:Digital Detox - Workshop für digitale Achtsamkeit mit Inés Kohlmeyer
DESCRIPTION:In diesem Workshop mit Inés Kohlmeyer geht es um die Vor- und Nachteile von Internet\, Smartphone &Co\, die Auswirkungen auf den Körper\, die Psyche und das soziale Leben. Die TeilnehmerInnen machen einen SMOBIE-Check. Der Workshop will Achtsamkeit wecken und Motivation geben für ein Digital-Detox. Die Referentin zeigt alltagstaugliche Übungen für Zuhause. \nMi\, 15.01.2025 \n19:00 Uhr Kulturscheune Mulfingen \nGäste sind jederzeit willkommen.
URL:https://landfrauen-hohenlohe.de/termin/digital-detox-workshop-fuer-digitale-achtsamkeit-mit-ines-kohlmeyer/
LOCATION:Kulturscheune Mulfingen\, Kirchweg 1\, Mulfingen\, Baden-Württemberg\, 74673\, Deutschland
END:VEVENT
BEGIN:VEVENT
DTSTART;TZID=Europe/Berlin:20250115T190000
DTEND;TZID=Europe/Berlin:20250115T190000
DTSTAMP:20260420T075017
CREATED:20250128T135508Z
LAST-MODIFIED:20250128T135508Z
UID:24023-1736967600-1736967600@landfrauen-hohenlohe.de
SUMMARY:Programmvorstellung
DESCRIPTION:Programmvorstellung 2025 mit kleinem Imbiss/Häppchen
URL:https://landfrauen-hohenlohe.de/termin/programmvorstellung/
LOCATION:Gasthaus Sonne-Post Neuhütten
ORGANIZER;CN="Neuh%C3%BCtten":MAILTO:neuhuetten@landfrauen-hohenlohe.de
END:VEVENT
BEGIN:VEVENT
DTSTART;TZID=Europe/Berlin:20250115T200000
DTEND;TZID=Europe/Berlin:20250115T210000
DTSTAMP:20260420T075017
CREATED:20250126T185012Z
LAST-MODIFIED:20250126T185012Z
UID:23922-1736971200-1736974800@landfrauen-hohenlohe.de
SUMMARY:Präventive Gymnastik
DESCRIPTION:
URL:https://landfrauen-hohenlohe.de/termin/praeventive-gymnastik/2025-01-15/
LOCATION:Sporthalle über dem Schwimmbad\, Gartenstr. 30\, Kupferzell\, 74635
ORGANIZER;CN="Kupferzell":MAILTO:kupferzell@landfrauen-hohenlohe.de
END:VEVENT
END:VCALENDAR