BEGIN:VCALENDAR
VERSION:2.0
PRODID:-//Landfrauen Hohenlohe - ECPv5.14.2.1//NONSGML v1.0//EN
CALSCALE:GREGORIAN
METHOD:PUBLISH
X-WR-CALNAME:Landfrauen Hohenlohe
X-ORIGINAL-URL:https://landfrauen-hohenlohe.de
X-WR-CALDESC:Veranstaltungen für Landfrauen Hohenlohe
BEGIN:VTIMEZONE
TZID:Europe/Berlin
BEGIN:DAYLIGHT
TZOFFSETFROM:+0100
TZOFFSETTO:+0200
TZNAME:CEST
DTSTART:20250330T010000
END:DAYLIGHT
BEGIN:STANDARD
TZOFFSETFROM:+0200
TZOFFSETTO:+0100
TZNAME:CET
DTSTART:20251026T010000
END:STANDARD
END:VTIMEZONE
BEGIN:VEVENT
DTSTART;TZID=Europe/Berlin:20250117T050000
DTEND;TZID=Europe/Berlin:20250119T220000
DTSTAMP:20260420T041800
CREATED:20250127T181851Z
LAST-MODIFIED:20250127T181930Z
UID:23674-1737090000-1737324000@landfrauen-hohenlohe.de
SUMMARY:Bildungsreise Berlin
DESCRIPTION:
URL:https://landfrauen-hohenlohe.de/termin/bildungsreise-berlin/
END:VEVENT
BEGIN:VEVENT
DTSTART;TZID=Europe/Berlin:20250117T170000
DTEND;TZID=Europe/Berlin:20250117T190000
DTSTAMP:20260420T041800
CREATED:20250126T190400Z
LAST-MODIFIED:20250126T190400Z
UID:23951-1737133200-1737140400@landfrauen-hohenlohe.de
SUMMARY:Trommeln
DESCRIPTION:
URL:https://landfrauen-hohenlohe.de/termin/trommeln-3/2025-01-17/
LOCATION:Rathaus Feßbach\, Am Rathaus 16\, Feßbach\, 74635
ORGANIZER;CN="Kupferzell":MAILTO:kupferzell@landfrauen-hohenlohe.de
END:VEVENT
BEGIN:VEVENT
DTSTART;TZID=Europe/Berlin:20250117T200000
DTEND;TZID=Europe/Berlin:20250117T204500
DTSTAMP:20260420T041800
CREATED:20250126T185338Z
LAST-MODIFIED:20250126T185338Z
UID:23881-1737144000-1737146700@landfrauen-hohenlohe.de
SUMMARY:Präventive Wassergymnastik
DESCRIPTION:
URL:https://landfrauen-hohenlohe.de/termin/praeventive-wassergymnastik/2025-01-17/
LOCATION:Schwimmbad\, Gartenstr. 30\, Kupferzell\, 74635
ORGANIZER;CN="Kupferzell":MAILTO:kupferzell@landfrauen-hohenlohe.de
END:VEVENT
BEGIN:VEVENT
DTSTART;TZID=Europe/Berlin:20250117T204500
DTEND;TZID=Europe/Berlin:20250117T213000
DTSTAMP:20260420T041800
CREATED:20250126T185852Z
LAST-MODIFIED:20250126T185852Z
UID:23827-1737146700-1737149400@landfrauen-hohenlohe.de
SUMMARY:Präventive Wassergymnastik
DESCRIPTION:
URL:https://landfrauen-hohenlohe.de/termin/praeventive-wassergymnastik-3/2025-01-17/
LOCATION:Schwimmbad\, Gartenstr. 30\, Kupferzell\, 74635
ORGANIZER;CN="Kupferzell":MAILTO:kupferzell@landfrauen-hohenlohe.de
END:VEVENT
END:VCALENDAR