BEGIN:VCALENDAR
VERSION:2.0
PRODID:-//Landfrauen Hohenlohe - ECPv5.14.2.1//NONSGML v1.0//EN
CALSCALE:GREGORIAN
METHOD:PUBLISH
X-WR-CALNAME:Landfrauen Hohenlohe
X-ORIGINAL-URL:https://landfrauen-hohenlohe.de
X-WR-CALDESC:Veranstaltungen für Landfrauen Hohenlohe
BEGIN:VTIMEZONE
TZID:Europe/Berlin
BEGIN:DAYLIGHT
TZOFFSETFROM:+0100
TZOFFSETTO:+0200
TZNAME:CEST
DTSTART:20250330T010000
END:DAYLIGHT
BEGIN:STANDARD
TZOFFSETFROM:+0200
TZOFFSETTO:+0100
TZNAME:CET
DTSTART:20251026T010000
END:STANDARD
END:VTIMEZONE
BEGIN:VEVENT
DTSTART;TZID=Europe/Berlin:20250117T050000
DTEND;TZID=Europe/Berlin:20250119T220000
DTSTAMP:20260420T021711
CREATED:20250127T181851Z
LAST-MODIFIED:20250127T181930Z
UID:23674-1737090000-1737324000@landfrauen-hohenlohe.de
SUMMARY:Bildungsreise Berlin
DESCRIPTION:
URL:https://landfrauen-hohenlohe.de/termin/bildungsreise-berlin/
END:VEVENT
BEGIN:VEVENT
DTSTART;TZID=Europe/Berlin:20250118T090000
DTEND;TZID=Europe/Berlin:20250118T120000
DTSTAMP:20260420T021711
CREATED:20250108T182418Z
LAST-MODIFIED:20250108T182418Z
UID:23133-1737190800-1737201600@landfrauen-hohenlohe.de
SUMMARY:Frauenfrühstück mit Vortrag zum Thema "Glück"
DESCRIPTION:
URL:https://landfrauen-hohenlohe.de/termin/frauenfruehstueck-mit-vortrag-zum-thema-glueck/
LOCATION:Hotel Rose\, Bitzfeld\, Weißlensburger Str\, Bretzfeld Bitzfeld
END:VEVENT
BEGIN:VEVENT
DTSTART;TZID=Europe/Berlin:20250118T170000
DTEND;TZID=Europe/Berlin:20250118T170000
DTSTAMP:20260420T021711
CREATED:20241003T083332Z
LAST-MODIFIED:20250105T093847Z
UID:22187-1737219600-1737219600@landfrauen-hohenlohe.de
SUMMARY:Wurscht- und Glühweinfescht
DESCRIPTION:Am Scheppacher Backhaus gibt es Glühwein und Würschtle in gemütlicher Runde mit Musik und Feuertonnen! \nAlle Veranstaltungen finden in Zusammenarbeit mit dem Bildungs- und Sozialwerk des LandFrauenverbandes Württemberg-Baden e.V. statt.
URL:https://landfrauen-hohenlohe.de/termin/wurscht-und-gluehweinfescht/
LOCATION:Backhaus Scheppach\, Eckstraße\, Bretzfeld\, 74626\, Deutschland
ATTACH;FMTTYPE=image/png:https://landfrauen-hohenlohe.de/wp-content/uploads/2024/06/Wurscht-und-Gluehweinfescht-3.png
ORGANIZER;CN="LandFrauen%20Scheppach":MAILTO:scheppach@landfrauen-hohenlohe.de
END:VEVENT
END:VCALENDAR