BEGIN:VCALENDAR
VERSION:2.0
PRODID:-//Landfrauen Hohenlohe - ECPv5.14.2.1//NONSGML v1.0//EN
CALSCALE:GREGORIAN
METHOD:PUBLISH
X-WR-CALNAME:Landfrauen Hohenlohe
X-ORIGINAL-URL:https://landfrauen-hohenlohe.de
X-WR-CALDESC:Veranstaltungen für Landfrauen Hohenlohe
BEGIN:VTIMEZONE
TZID:Europe/Berlin
BEGIN:DAYLIGHT
TZOFFSETFROM:+0100
TZOFFSETTO:+0200
TZNAME:CEST
DTSTART:20250330T010000
END:DAYLIGHT
BEGIN:STANDARD
TZOFFSETFROM:+0200
TZOFFSETTO:+0100
TZNAME:CET
DTSTART:20251026T010000
END:STANDARD
END:VTIMEZONE
BEGIN:VEVENT
DTSTART;TZID=Europe/Berlin:20250124T080000
DTEND;TZID=Europe/Berlin:20250126T170000
DTSTAMP:20260419T155243
CREATED:20250127T182023Z
LAST-MODIFIED:20250127T182052Z
UID:23676-1737705600-1737910800@landfrauen-hohenlohe.de
SUMMARY:Wellnesswochenende
DESCRIPTION:
URL:https://landfrauen-hohenlohe.de/termin/wellnesswochenende/
END:VEVENT
BEGIN:VEVENT
DTSTART;TZID=Europe/Berlin:20250124T170000
DTEND;TZID=Europe/Berlin:20250124T190000
DTSTAMP:20260419T155243
CREATED:20250126T190400Z
LAST-MODIFIED:20250126T190400Z
UID:23952-1737738000-1737745200@landfrauen-hohenlohe.de
SUMMARY:Trommeln
DESCRIPTION:
URL:https://landfrauen-hohenlohe.de/termin/trommeln-3/2025-01-24/
LOCATION:Rathaus Feßbach\, Am Rathaus 16\, Feßbach\, 74635
ORGANIZER;CN="Kupferzell":MAILTO:kupferzell@landfrauen-hohenlohe.de
END:VEVENT
BEGIN:VEVENT
DTSTART;TZID=Europe/Berlin:20250124T200000
DTEND;TZID=Europe/Berlin:20250124T204500
DTSTAMP:20260419T155243
CREATED:20250126T185338Z
LAST-MODIFIED:20250126T185338Z
UID:23882-1737748800-1737751500@landfrauen-hohenlohe.de
SUMMARY:Präventive Wassergymnastik
DESCRIPTION:
URL:https://landfrauen-hohenlohe.de/termin/praeventive-wassergymnastik/2025-01-24/
LOCATION:Schwimmbad\, Gartenstr. 30\, Kupferzell\, 74635
ORGANIZER;CN="Kupferzell":MAILTO:kupferzell@landfrauen-hohenlohe.de
END:VEVENT
BEGIN:VEVENT
DTSTART;TZID=Europe/Berlin:20250124T204500
DTEND;TZID=Europe/Berlin:20250124T213000
DTSTAMP:20260419T155243
CREATED:20250126T185852Z
LAST-MODIFIED:20250126T185852Z
UID:23828-1737751500-1737754200@landfrauen-hohenlohe.de
SUMMARY:Präventive Wassergymnastik
DESCRIPTION:
URL:https://landfrauen-hohenlohe.de/termin/praeventive-wassergymnastik-3/2025-01-24/
LOCATION:Schwimmbad\, Gartenstr. 30\, Kupferzell\, 74635
ORGANIZER;CN="Kupferzell":MAILTO:kupferzell@landfrauen-hohenlohe.de
END:VEVENT
END:VCALENDAR