BEGIN:VCALENDAR
VERSION:2.0
PRODID:-//Landfrauen Hohenlohe - ECPv5.14.2.1//NONSGML v1.0//EN
CALSCALE:GREGORIAN
METHOD:PUBLISH
X-WR-CALNAME:Landfrauen Hohenlohe
X-ORIGINAL-URL:https://landfrauen-hohenlohe.de
X-WR-CALDESC:Veranstaltungen für Landfrauen Hohenlohe
BEGIN:VTIMEZONE
TZID:Europe/Berlin
BEGIN:DAYLIGHT
TZOFFSETFROM:+0100
TZOFFSETTO:+0200
TZNAME:CEST
DTSTART:20250330T010000
END:DAYLIGHT
BEGIN:STANDARD
TZOFFSETFROM:+0200
TZOFFSETTO:+0100
TZNAME:CET
DTSTART:20251026T010000
END:STANDARD
END:VTIMEZONE
BEGIN:VEVENT
DTSTART;TZID=Europe/Berlin:20250214T150000
DTEND;TZID=Europe/Berlin:20250214T180000
DTSTAMP:20260421T101417
CREATED:20250205T200734Z
LAST-MODIFIED:20250205T200734Z
UID:24551-1739545200-1739556000@landfrauen-hohenlohe.de
SUMMARY:Handarbeitsnachmittag
DESCRIPTION:In gemütlicher Runde wollen wir gemeinsam handarbeiten. Jeder kann sein aktuelles Handarbeitsstück mitbringen. \nFür Verpflegung ist gesorgt.
URL:https://landfrauen-hohenlohe.de/termin/handarbeitsnachmittag-3/
LOCATION:Alte Schule\, Beltersrot\, Beltersrot\, Baden-Württemberg\, 74635\, Deutschland
ORGANIZER;CN="Westernach":MAILTO:westernach@landfrauen-hohenlohe.de
END:VEVENT
BEGIN:VEVENT
DTSTART;TZID=Europe/Berlin:20250214T170000
DTEND;TZID=Europe/Berlin:20250214T190000
DTSTAMP:20260421T101417
CREATED:20250126T190400Z
LAST-MODIFIED:20250126T190400Z
UID:23955-1739552400-1739559600@landfrauen-hohenlohe.de
SUMMARY:Trommeln
DESCRIPTION:
URL:https://landfrauen-hohenlohe.de/termin/trommeln-3/2025-02-14/
LOCATION:Rathaus Feßbach\, Am Rathaus 16\, Feßbach\, 74635
ORGANIZER;CN="Kupferzell":MAILTO:kupferzell@landfrauen-hohenlohe.de
END:VEVENT
BEGIN:VEVENT
DTSTART;TZID=Europe/Berlin:20250214T200000
DTEND;TZID=Europe/Berlin:20250214T204500
DTSTAMP:20260421T101417
CREATED:20250126T185338Z
LAST-MODIFIED:20250126T185338Z
UID:23885-1739563200-1739565900@landfrauen-hohenlohe.de
SUMMARY:Präventive Wassergymnastik
DESCRIPTION:
URL:https://landfrauen-hohenlohe.de/termin/praeventive-wassergymnastik/2025-02-14/
LOCATION:Schwimmbad\, Gartenstr. 30\, Kupferzell\, 74635
ORGANIZER;CN="Kupferzell":MAILTO:kupferzell@landfrauen-hohenlohe.de
END:VEVENT
BEGIN:VEVENT
DTSTART;TZID=Europe/Berlin:20250214T204500
DTEND;TZID=Europe/Berlin:20250214T213000
DTSTAMP:20260421T101417
CREATED:20250126T185852Z
LAST-MODIFIED:20250126T185852Z
UID:23831-1739565900-1739568600@landfrauen-hohenlohe.de
SUMMARY:Präventive Wassergymnastik
DESCRIPTION:
URL:https://landfrauen-hohenlohe.de/termin/praeventive-wassergymnastik-3/2025-02-14/
LOCATION:Schwimmbad\, Gartenstr. 30\, Kupferzell\, 74635
ORGANIZER;CN="Kupferzell":MAILTO:kupferzell@landfrauen-hohenlohe.de
END:VEVENT
END:VCALENDAR