BEGIN:VCALENDAR
VERSION:2.0
PRODID:-//Landfrauen Hohenlohe - ECPv5.14.2.1//NONSGML v1.0//EN
CALSCALE:GREGORIAN
METHOD:PUBLISH
X-WR-CALNAME:Landfrauen Hohenlohe
X-ORIGINAL-URL:https://landfrauen-hohenlohe.de
X-WR-CALDESC:Veranstaltungen für Landfrauen Hohenlohe
BEGIN:VTIMEZONE
TZID:Europe/Berlin
BEGIN:DAYLIGHT
TZOFFSETFROM:+0100
TZOFFSETTO:+0200
TZNAME:CEST
DTSTART:20250330T010000
END:DAYLIGHT
BEGIN:STANDARD
TZOFFSETFROM:+0200
TZOFFSETTO:+0100
TZNAME:CET
DTSTART:20251026T010000
END:STANDARD
END:VTIMEZONE
BEGIN:VEVENT
DTSTART;TZID=Europe/Berlin:20250528T110000
DTEND;TZID=Europe/Berlin:20250528T120000
DTSTAMP:20260420T235544
CREATED:20250126T180412Z
LAST-MODIFIED:20250126T180412Z
UID:23767-1748430000-1748433600@landfrauen-hohenlohe.de
SUMMARY:Präventive Stuhlgymnastik
DESCRIPTION:
URL:https://landfrauen-hohenlohe.de/termin/praeventive-stuhlgymnastik/2025-05-28/
LOCATION:Bachstraße 6\, Füssbach\, Bachstraße 6\, Füßbach\, 74635
ORGANIZER;CN="Kupferzell":MAILTO:kupferzell@landfrauen-hohenlohe.de
END:VEVENT
BEGIN:VEVENT
DTSTART;TZID=Europe/Berlin:20250528T200000
DTEND;TZID=Europe/Berlin:20250528T210000
DTSTAMP:20260420T235544
CREATED:20250126T185012Z
LAST-MODIFIED:20250126T185012Z
UID:23941-1748462400-1748466000@landfrauen-hohenlohe.de
SUMMARY:Präventive Gymnastik
DESCRIPTION:
URL:https://landfrauen-hohenlohe.de/termin/praeventive-gymnastik/2025-05-28/
LOCATION:Sporthalle über dem Schwimmbad\, Gartenstr. 30\, Kupferzell\, 74635
ORGANIZER;CN="Kupferzell":MAILTO:kupferzell@landfrauen-hohenlohe.de
END:VEVENT
END:VCALENDAR