BEGIN:VCALENDAR
VERSION:2.0
PRODID:-//Landfrauen Hohenlohe - ECPv5.14.2.1//NONSGML v1.0//EN
CALSCALE:GREGORIAN
METHOD:PUBLISH
X-WR-CALNAME:Landfrauen Hohenlohe
X-ORIGINAL-URL:https://landfrauen-hohenlohe.de
X-WR-CALDESC:Veranstaltungen für Landfrauen Hohenlohe
BEGIN:VTIMEZONE
TZID:Europe/Berlin
BEGIN:DAYLIGHT
TZOFFSETFROM:+0100
TZOFFSETTO:+0200
TZNAME:CEST
DTSTART:20250330T010000
END:DAYLIGHT
BEGIN:STANDARD
TZOFFSETFROM:+0200
TZOFFSETTO:+0100
TZNAME:CET
DTSTART:20251026T010000
END:STANDARD
END:VTIMEZONE
BEGIN:VEVENT
DTSTART;VALUE=DATE:20250802
DTEND;VALUE=DATE:20250804
DTSTAMP:20260420T181523
CREATED:20250110T093354Z
LAST-MODIFIED:20250110T093354Z
UID:23183-1754092800-1754265599@landfrauen-hohenlohe.de
SUMMARY:Straßenfest Dimbach – Rosenküchle und Kaffeespezialitätenverkauf
DESCRIPTION:Für viele Gäste ist es bereits Tradition nach Dimbach zu kommen um sich kulinarisch verwöhnen zu lassen. \nGemeinsam mit dem Sportverein SV Dimbach und der FFW Bretzfeld – Abteilung Dimbach hoffen wir auf ein gutes Festwetter und freuen uns auf unsere Gäste aus Nah und Fern. \nTraditionell sind wir am LandFrauen-Stand mit unseren leckeren Rosenküchle und Kaffeespezialitäten vertreten. \nDer Festbetrieb beginnt am Samstag\, 2. August gegen 16 Uhr\, offizielle Begrüßung und Festeröffnung findet um 18 Uhr mit Ansprache und einem Begrüßungsgläschen Dimbacher Wein statt. Am Sonntag\, 3. August beginnen wir um 11 Uhr. \nAusreichende Parkplätze sind direkt hinter dem Festgelände vorhanden und ausgeschildert. \nAlle Veranstaltungen finden in Zusammenarbeit mit dem Bildungs- und Sozialwerk des LandFrauenverbandes Württemberg-Baden e.V. statt.
URL:https://landfrauen-hohenlohe.de/termin/strassenfest-dimbach-rosenkuechle-und-kaffeespezialitaetenverkauf/
LOCATION:Sporthalle Dimbach\, Hallenweg
ATTACH;FMTTYPE=image/jpeg:https://landfrauen-hohenlohe.de/wp-content/uploads/2022/12/Rosenkuechle.jpg
ORGANIZER;CN="Dimbach":MAILTO:dimbach@landfrauen-hohenlohe.de
END:VEVENT
END:VCALENDAR