BEGIN:VCALENDAR
VERSION:2.0
PRODID:-//Landfrauen Hohenlohe - ECPv5.14.2.1//NONSGML v1.0//EN
CALSCALE:GREGORIAN
METHOD:PUBLISH
X-WR-CALNAME:Landfrauen Hohenlohe
X-ORIGINAL-URL:https://landfrauen-hohenlohe.de
X-WR-CALDESC:Veranstaltungen für Landfrauen Hohenlohe
BEGIN:VTIMEZONE
TZID:Europe/Berlin
BEGIN:DAYLIGHT
TZOFFSETFROM:+0100
TZOFFSETTO:+0200
TZNAME:CEST
DTSTART:20250330T010000
END:DAYLIGHT
BEGIN:STANDARD
TZOFFSETFROM:+0200
TZOFFSETTO:+0100
TZNAME:CET
DTSTART:20251026T010000
END:STANDARD
END:VTIMEZONE
BEGIN:VEVENT
DTSTART;TZID=Europe/Berlin:20250916T093000
DTEND;TZID=Europe/Berlin:20250916T104500
DTSTAMP:20260419T170514
CREATED:20231206T172301Z
LAST-MODIFIED:20231206T172301Z
UID:20187-1758015000-1758019500@landfrauen-hohenlohe.de
SUMMARY:Workout Moms
DESCRIPTION:Neues Kursangebot für Mamas mit ihren Babys. \nWir konnten dafür eine Physiotherapeutin gewinnen.\nSie schreibt:\nWer kennt es nicht?\nRückbildungskurs ist abgeschlossen\,- so fit wie vor der Schwangerschaft bist du noch lange nicht?\nWelche Übungen wären überhaupt ok – oder förderlich für deinen Beckenboden?\nEin Kurs\, ohne dein Baby – keine Option für dich?\nDann bist du bei mir genau richtig!\nAls Physiotherapeutin und Mama von zwei Kindern\, habe ich\, mit Hebammen\, das Konzept „Workout Moms“ entwickelt.\nTraining im Freien\, mit Kind – idealerweise in der Trage – speziell für die Bedürfnisse frisch gebackener Mamas.\nDas Training im Freien stärkt nicht nur die Muskulatur\, das Herz-Kreislauf-System\, sondern auch das Immunsystem. So kommt ihr fit über den Winter. \nTeilnehmer: Frauen mit Babys ab 4 Monaten\n8x Dienstags von 09:30 Uhr bis 10:45 Uhr\nim Zeitraum vom 09.01.24 – 05.03.24\nTreffpunkt: Dorfgemeinschaftshaus Büttelbronn\nWeitere Infos: workoutmoms@web.de
URL:https://landfrauen-hohenlohe.de/termin/workout-moms/2025-09-16/
LOCATION:Bürgerhaus Büttelbronn
ATTACH;FMTTYPE=image/jpeg:https://landfrauen-hohenlohe.de/wp-content/uploads/2023/12/Workout-Mama-5.jpg
ORGANIZER;CN="%C3%96hringen":MAILTO:oehringen@landfrauen-hohenlohe.de
END:VEVENT
BEGIN:VEVENT
DTSTART;TZID=Europe/Berlin:20250916T140000
DTEND;TZID=Europe/Berlin:20250916T170000
DTSTAMP:20260419T170514
CREATED:20250809T184436Z
LAST-MODIFIED:20250809T185813Z
UID:25464-1758031200-1758042000@landfrauen-hohenlohe.de
SUMMARY:Führung im Carmen Würth Forum/ Ausstellung Nolde
DESCRIPTION:Gemeinsam wollen wir eine Führung durch die Ausstellung Emil Nolde machen und anschließend gemeinsam Kaffeetrinken.
URL:https://landfrauen-hohenlohe.de/termin/fuehrung-im-carmen-wuerth-forum-ausstellung-nolde/
LOCATION:Carmen Würth Forum Gaisbach\, Gaisbach
ORGANIZER;CN="Biene2.0":MAILTO:Biene2.0@landfrauen-hohenlohe.de
END:VEVENT
BEGIN:VEVENT
DTSTART;TZID=Europe/Berlin:20250916T193000
DTEND;TZID=Europe/Berlin:20250916T220000
DTSTAMP:20260419T170514
CREATED:20250113T133913Z
LAST-MODIFIED:20250113T133913Z
UID:23238-1758051000-1758060000@landfrauen-hohenlohe.de
SUMMARY:Zwiebelkuchen und neuer Wein
DESCRIPTION:Anmeldung bis 02.09.2025 \nbei Stefanie Lutz unter +151 54729209
URL:https://landfrauen-hohenlohe.de/termin/zwiebelkuchen-und-neuer-wein-2/
LOCATION:Niedernhall Feuerwehrhaus\, Bahnhofstrasse 8\, Niedernhall\, 74676
ORGANIZER;CN="Niedernhall":MAILTO:niedernhall@landfrauen-hohenlohe.de
END:VEVENT
END:VCALENDAR