BEGIN:VCALENDAR
VERSION:2.0
PRODID:-//Landfrauen Hohenlohe - ECPv5.14.2.1//NONSGML v1.0//EN
CALSCALE:GREGORIAN
METHOD:PUBLISH
X-WR-CALNAME:Landfrauen Hohenlohe
X-ORIGINAL-URL:https://landfrauen-hohenlohe.de
X-WR-CALDESC:Veranstaltungen für Landfrauen Hohenlohe
BEGIN:VTIMEZONE
TZID:Europe/Berlin
BEGIN:DAYLIGHT
TZOFFSETFROM:+0100
TZOFFSETTO:+0200
TZNAME:CEST
DTSTART:20250330T010000
END:DAYLIGHT
BEGIN:STANDARD
TZOFFSETFROM:+0200
TZOFFSETTO:+0100
TZNAME:CET
DTSTART:20251026T010000
END:STANDARD
END:VTIMEZONE
BEGIN:VEVENT
DTSTART;TZID=Europe/Berlin:20250917T110000
DTEND;TZID=Europe/Berlin:20250917T120000
DTSTAMP:20260419T152345
CREATED:20250126T181151Z
LAST-MODIFIED:20250128T122359Z
UID:23502-1758106800-1758110400@landfrauen-hohenlohe.de
SUMMARY:Präventive Stuhlgymnastik
DESCRIPTION:
URL:https://landfrauen-hohenlohe.de/termin/praeventive-stuhlgymnastik-2/2025-09-17/
LOCATION:Bachstraße 6\, Füssbach\, Bachstraße 6\, Füßbach\, 74635
ORGANIZER;CN="Kupferzell":MAILTO:kupferzell@landfrauen-hohenlohe.de
END:VEVENT
BEGIN:VEVENT
DTSTART;TZID=Europe/Berlin:20250917T180000
DTEND;TZID=Europe/Berlin:20250917T190000
DTSTAMP:20260419T152345
CREATED:20250126T184030Z
LAST-MODIFIED:20250128T122514Z
UID:23512-1758132000-1758135600@landfrauen-hohenlohe.de
SUMMARY:Cardio Jumping
DESCRIPTION:
URL:https://landfrauen-hohenlohe.de/termin/cardio-jumping-4/2025-09-17/
LOCATION:Sporthalle über dem Schwimmbad\, Gartenstr. 30\, Kupferzell\, 74635
ORGANIZER;CN="Kupferzell":MAILTO:kupferzell@landfrauen-hohenlohe.de
END:VEVENT
BEGIN:VEVENT
DTSTART;TZID=Europe/Berlin:20250917T200000
DTEND;TZID=Europe/Berlin:20250917T210000
DTSTAMP:20260419T152345
CREATED:20250126T185159Z
LAST-MODIFIED:20250128T123740Z
UID:23524-1758139200-1758142800@landfrauen-hohenlohe.de
SUMMARY:Präventive Gymnastik
DESCRIPTION:
URL:https://landfrauen-hohenlohe.de/termin/praeventive-gymnastik-2/2025-09-17/
LOCATION:Sporthalle über dem Schwimmbad\, Gartenstr. 30\, Kupferzell\, 74635
ORGANIZER;CN="Kupferzell":MAILTO:kupferzell@landfrauen-hohenlohe.de
END:VEVENT
END:VCALENDAR